BEGIN:VCALENDAR
VERSION:2.0
PRODID:-//Ponyhof Bätterkinden
CALSCALE:GREGORIAN
METHOD:PUBLISH
X-WR-CALNAME:Ponyhof Bätterkinden
X-ORIGINAL-URL:https://www.ponys.ch/produkt/fortgeschrittene-2-2/
X-WR-CALDESC:Fortgeschrittene 2 (Vorlage)
BEGIN:VEVENT
DTSTART:20190923T144500
DTEND:20190927T171500
SUMMARY:Fortgeschrittene 2 (Vorlage)
DESCRIPTION:<div class="wpb_column vc_column_container vc_col-sm-6">
<div class="vc_column-inner ">
<div class="wpb_wrapper">
<div class=" vc_custom_1529065892437">
<div id="text-block-23" class="mk-text-block ">

Ab dem 8. Altersjahr (mind. 3-4 besuchte Fortgeschrittene 1 Kurse oder entsprechende Reitstunden) alle 3 Gangarten im leichten Sitz, Pony selbständig parat machen und einrücken können.

</div>
</div>
</div>
</div>
</div>
URL:https://www.ponys.ch/produkt/fortgeschrittene-2-2/
LOCATION:Mühlegasse 32, 3315 Bätterkinden
END:VEVENT
END:VCALENDAR
