BEGIN:VCALENDAR
VERSION:2.0
PRODID:-//Ponyhof Bätterkinden
CALSCALE:GREGORIAN
METHOD:PUBLISH
X-WR-CALNAME:Ponyhof Bätterkinden
X-ORIGINAL-URL:https://www.ponys.ch/produkt/anfaenger-1-herbst-woche-41/
X-WR-CALDESC:Anfänger 1 Herbst Woche 41
BEGIN:VEVENT
DTSTART:20261005T134500
DTEND:20261009T161500
SUMMARY:Anfänger 1 Herbst Woche 41
DESCRIPTION:Ab dem 6. Altersjahr – Dieser Kurs kann mehrmals besucht werden.
URL:https://www.ponys.ch/produkt/anfaenger-1-herbst-woche-41/
LOCATION:Mühlegasse 32, 3315 Bätterkinden
END:VEVENT
END:VCALENDAR
