BEGIN:VCALENDAR
VERSION:2.0
PRODID:-//Ponyhof Bätterkinden
CALSCALE:GREGORIAN
METHOD:PUBLISH
X-WR-CALNAME:Ponyhof Bätterkinden
X-ORIGINAL-URL:https://www.ponys.ch/produkt/galopp-4-fruehling-woche-15-2/
X-WR-CALDESC:Galopp 4 Frühling Woche 15
BEGIN:VEVENT
DTSTART:20260406T134500
DTEND:20260410T174500
SUMMARY:Galopp 4 Frühling Woche 15
DESCRIPTION:<div class="wpb_column vc_column_container vc_col-sm-6">
<div class="vc_column-inner ">
<div class="wpb_wrapper">
<div class=" vc_custom_1542966653078">
<div id="text-block-27" class="mk-text-block ">

Ab dem 10./11. Altersjahr, als Vorbereitung auf die Grundausbildung Pferd und das Brevet.

</div>
</div>
</div>
</div>
</div>
<div class="wpb_column vc_column_container vc_col-sm-6">
<div class="vc_column-inner ">
<div class="wpb_wrapper">
<div class=" vc_custom_1529065975620">
<div id="text-block-28" class="mk-text-block ">

&nbsp;

</div>
</div>
</div>
</div>
</div>
URL:https://www.ponys.ch/produkt/galopp-4-fruehling-woche-15-2/
LOCATION:Mühlegasse 32, 3315 Bätterkinden
END:VEVENT
END:VCALENDAR
